BEGIN:VCALENDAR
VERSION:2.0
PRODID:-//Amics de les Muntanyes IBI - ECPv6.15.17.1//NONSGML v1.0//EN
CALSCALE:GREGORIAN
METHOD:PUBLISH
X-ORIGINAL-URL:https://amicsdelesmuntanyesibi.es
X-WR-CALDESC:Eventos para Amics de les Muntanyes IBI
REFRESH-INTERVAL;VALUE=DURATION:PT1H
X-Robots-Tag:noindex
X-PUBLISHED-TTL:PT1H
BEGIN:VTIMEZONE
TZID:Europe/Paris
BEGIN:DAYLIGHT
TZOFFSETFROM:+0100
TZOFFSETTO:+0200
TZNAME:CEST
DTSTART:20250330T010000
END:DAYLIGHT
BEGIN:STANDARD
TZOFFSETFROM:+0200
TZOFFSETTO:+0100
TZNAME:CET
DTSTART:20251026T010000
END:STANDARD
BEGIN:DAYLIGHT
TZOFFSETFROM:+0100
TZOFFSETTO:+0200
TZNAME:CEST
DTSTART:20260329T010000
END:DAYLIGHT
BEGIN:STANDARD
TZOFFSETFROM:+0200
TZOFFSETTO:+0100
TZNAME:CET
DTSTART:20261025T010000
END:STANDARD
BEGIN:DAYLIGHT
TZOFFSETFROM:+0100
TZOFFSETTO:+0200
TZNAME:CEST
DTSTART:20270328T010000
END:DAYLIGHT
BEGIN:STANDARD
TZOFFSETFROM:+0200
TZOFFSETTO:+0100
TZNAME:CET
DTSTART:20271031T010000
END:STANDARD
END:VTIMEZONE
BEGIN:VTIMEZONE
TZID:UTC
BEGIN:STANDARD
TZOFFSETFROM:+0000
TZOFFSETTO:+0000
TZNAME:UTC
DTSTART:20250101T000000
END:STANDARD
END:VTIMEZONE
BEGIN:VEVENT
DTSTART;TZID=Europe/Paris:20260301T080000
DTEND;TZID=Europe/Paris:20260301T130000
DTSTAMP:20260425T152114
CREATED:20260217T011343Z
LAST-MODIFIED:20260217T011343Z
UID:25448-1772352000-1772370000@amicsdelesmuntanyesibi.es
SUMMARY:RUTA HOMENAJE A MANOLO – TEIXERETA – 01/03/2026
DESCRIPTION:El próximo domingo 1 de marzo celebraremos un pequeño homenaje a nuestro querido amigo Manolo García\, organizado conjuntamente por el Grup Muntanyenc de Sant Joan y nuestro club. \nEl acto tendrá lugar en la cumbre del Teixereta\, tan querida por él y por todos nosotros\, y escenario de tantos momentos inolvidables compartidos. \nPara quienes queráis participar: \nLa salida a pie será a las 8:00 h desde el aparcamiento situado en el cruce de las carreteras CV-801 y CV-802 (dirección Onil)\, cerca de la Venteta dels Cuernos.\nUbicación: https://maps.app.goo.gl/6CEP6a57uLyUoMeZ9 \nAl llegar al paraje de El Serrallo realizaremos el almuerzo y\, posteriormente\, ascenderemos a la cumbre del Teixereta\, donde celebraremos el homenaje. \nPara participar es obligatorio estar federado (licencia 2026 en vigor) o disponer de seguro de senderista.\nQuien no lo tenga deberá solicitarlo a través del siguiente enlace: seguros.rocalbsub\, completando el formulario y realizando el pago (tarjeta o Bizum). Es importante finalizar todo el proceso. Recibiréis por correo electrónico el certificado y el carnet acreditativo para ese día. \nOs esperamos.\nSe lo merece. \nPara el que no pueda inscribirse en el formulario de aquí abajo hemos creado uno alternativo que podéis pinchar en el siguiente enlace: https://forms.gle/AyMmmLzwMyzpJtNF9
URL:https://amicsdelesmuntanyesibi.es/evento/ruta-homenaje-a-manolo-teixereta-01-03-2026/
LOCATION:PHOTO-2025-09-18-17-43-05
CATEGORIES:Senderismo
ATTACH;FMTTYPE=image/jpeg:https://amicsdelesmuntanyesibi.es/wp-content/uploads/2026/02/Comunicado-homenaje-a-Manolo-scaled.jpg
END:VEVENT
BEGIN:VEVENT
DTSTART;TZID=Europe/Paris:20260308T073000
DTEND;TZID=Europe/Paris:20260308T130000
DTSTAMP:20260425T152114
CREATED:20260225T052222Z
LAST-MODIFIED:20260225T052222Z
UID:25573-1772955000-1772974800@amicsdelesmuntanyesibi.es
SUMMARY:BARRANCOS DE LAS SALINAS Y MASCUNA (MONTNEGRE-XIXONA) 08/03/2026
DESCRIPTION:Nuestro compañero Ginés\, acompañado de Los Juanes\, nos proponen una ruta cerca de casa\, de un alto valor geológico. \nEl Barranco de las Salinas es uno de los barrancos que confluyen en el rio Montnegre. Es un barranco seco la mayor parte del año y excavado sobre materiales del Triásico. El relieve erosionado del cauce y los colores de areniscas y yesos lo convierten en una visita muy interesante desde un punto de vista geológico. \n  \nGran parte de la ruta la haremos por dentro del barranco\, donde retrocederemos en el tiempo y viajaremos a los periodos Triásicos y Cuaternarios\, discurriendo por areniscas de colores rojizos\, cenicientos y ocre\, formando un relieve muy erosionado con cárcavas\, cuevas y farallones. \nLa ruta no tiene ninguna dificultad técnica\, excepto una de las presas que tendremos que franquear con la ayuda de grapas metálicas y una cadena. \nLa ruta la iniciaremos desde la pedanía de Montnegre de Dalt\, donde aparcaremos los coches. El almuerzo en ruta y acabaremos sobre las 13:00 horas. \n  \n  \n-SALIDA: 7:30 desde el parking Giravella. \n-DISTANCIA: 11 Km \n-DESNIVEL: 312 m \n-TIPO DE RUTA: Circular. \n-DURACIÓN: 4 horas y media aprox. \n-DIFICULTAD: Moderada. \n  \n \nPara participar en la actividad hay que estar Federado (Licencia 2026 en vigor) o tener un seguro de senderista\, el que no lo tenga deberá pinchar en el siguiente enlace: seguros.rocalbsub y solicitar el seguro correspondiente para ese día rellenando el formulario correspondiente y pagándolo al final\, bien por tarjeta o bizum\, como allí se indica. Asegurarse de acabar todo el proceso. En vuestro correo electrónico recibiréis el certificado de seguro y un carnet que os identifica como asegurados ese día. \nPara el que no pueda inscribirse en el formulario hemos creado uno alternativo que podéis pinchar en el siguiente enlace: \nhttps://forms.gle/odnqhxXiymGko6eL7
URL:https://amicsdelesmuntanyesibi.es/evento/barrancos-de-las-salinas-y-mascuna-montnegre-xixona-08-03-2026/
LOCATION:Aparcamiento de Giravella – Ibi\, Cid\, 4 03440 Ibi\, Ibi\, Alicante\, 03440\, España
CATEGORIES:Senderismo
ATTACH;FMTTYPE=image/jpeg:https://amicsdelesmuntanyesibi.es/wp-content/uploads/2026/02/IMG_1637-scaled.jpeg
END:VEVENT
BEGIN:VEVENT
DTSTART;TZID=UTC:20260315T071500
DTEND;TZID=UTC:20260315T133000
DTSTAMP:20260425T152114
CREATED:20260309T073625Z
LAST-MODIFIED:20260309T074013Z
UID:25599-1773558900-1773581400@amicsdelesmuntanyesibi.es
SUMMARY:SIERRA DEL CARCHE (MURCIA)   15/3/2026
DESCRIPTION:El próximo 15/3/26 realizaremos una preciosa ruta circular en el parque natural de la Sierra del Carche\, subiremos a La Madama (1.372 m)\, pico principal de esta sierra. \nPartiremos desde las salinas de la Rosa\, recorriendo toda la sierra pasando por el Puntal de Rosa\, Morra Alta y Cerro Quemado y desde ahí a la cima de la Madama\, volviendo por el pozo de la nieve. \nDISTANCIA:  14km \nDESNIVEL:  780m \nDIFICULTAD:  Media \nSALIDA:  7:15h Parquin Giravela. \nHORA INICIO DE RUTA:  8:30h. Polígono Salinas de la Rosa. (Fábrica de sal Jumsal). \nLLEGADA A LOS COCHES: 13:30/14:00 h. \nEl almuerzo será en ruta a la altura de Cerro Quemado. \nSe puede comer donde hemos aparcado los coches\, o volver a casa. \nOtra opción es comer en Pinoso a 22’ o Jumilla a 16’. A libertad de cada uno\, se recomienda reservar. \nPara participar en la actividad hay que estar Federado (Licencia 2026 en vigor) o tener un seguro de senderista\, el que no lo tenga deberá pinchar en el siguiente enlace: seguros.rocalbsub y solicitar el seguro correspondiente para ese día rellenando el formulario correspondiente y pagándolo al final\, bien por tarjeta o bizum\, como allí se indica. Asegurarse de acabar todo el proceso. En vuestro correo electrónico recibiréis el certificado de seguro y un carnet que os identifica como asegurados ese día.
URL:https://amicsdelesmuntanyesibi.es/evento/sierra-del-carche-murcia-15-3-2026/
LOCATION:Aparcamiento de Giravella – Ibi\, Cid\, 4 03440 Ibi\, Ibi\, Alicante\, 03440\, España
CATEGORIES:Senderismo
ATTACH;FMTTYPE=image/jpeg:https://amicsdelesmuntanyesibi.es/wp-content/uploads/2026/03/IMG_1642.jpg
END:VEVENT
END:VCALENDAR