BEGIN:VCALENDAR
VERSION:2.0
PRODID:-//Amics de les Muntanyes IBI - ECPv6.15.17.1//NONSGML v1.0//EN
CALSCALE:GREGORIAN
METHOD:PUBLISH
X-WR-CALNAME:Amics de les Muntanyes IBI
X-ORIGINAL-URL:https://amicsdelesmuntanyesibi.es
X-WR-CALDESC:Eventos para Amics de les Muntanyes IBI
REFRESH-INTERVAL;VALUE=DURATION:PT1H
X-Robots-Tag:noindex
X-PUBLISHED-TTL:PT1H
BEGIN:VTIMEZONE
TZID:UTC
BEGIN:STANDARD
TZOFFSETFROM:+0000
TZOFFSETTO:+0000
TZNAME:UTC
DTSTART:20250101T000000
END:STANDARD
END:VTIMEZONE
BEGIN:VEVENT
DTSTART;TZID=UTC:20260419T063000
DTEND;TZID=UTC:20260419T180000
DTSTAMP:20260426T012547
CREATED:20260408T110848Z
LAST-MODIFIED:20260408T111600Z
UID:25718-1776580200-1776621600@amicsdelesmuntanyesibi.es
SUMMARY:RUTA CIRCULAR POR LA VALLDIGNA (PR-CV51 – Senderos V2 y D3) SIMAT – Términos municipales de Benifairó y Xeraco - SIMAT 19/04/2026
DESCRIPTION:Nos adentramos de nuevo\, de la mano de nuestros amigos los “jubilados intrépidos”\, en otro tramo \n \ndel sendero PR-CV51\, recorriendo los términos municipales de Simat de la Valldigna\, Benifairó de la Valldigna y Xeraco. \nIniciaremos la ruta en el emblemático Monasterio de Santa María de la Valldigna\, fundado por Jaime II el Justo en el año 1298\, una joya cisterciense que hoy se conserva parcialmente en ruinas. \nContinuaremos por el lado izquierdo del recinto amurallado del monasterio\, en dirección a la Mezquita de la Xara\, sin llegar hasta ella. \nSiguiendo el PR-CV51\, entre bancales de naranjos\, alcanzaremos el singular y bello paraje de la Fontarda – Clot de la Font\, donde probablemente realizaremos el almuerzo. \n \nPosteriormente\, avanzaremos por caminos asfaltados en dirección a Benifairó\, tomando el Camí del Trenet (actual Vía Verde y PR-CV51). Al girar a la derecha por esta vía\, en dirección a Tavernes\, volveremos a desviarnos hacia el sur para ascender\, en zig-zag\, hasta el Alt de la Cadira. Este punto es un excelente mirador sobre la Vall y el litoral\, aunque su visita dependerá del tiempo disponible\, ya que requiere una pequeña desviación. \nContinuaremos por senda y\, más adelante\, por un camino algo más amplio hasta llegar a una indicación que nos invita a visitar la Cisterna\, parada también opcional según el ritmo de la ruta. \nA pocos metros encontraremos otra señal que puede inducir a confusión: la Font de l’Escudella\, que desciende hacia el término de Xeraco. La ignoraremos y seguiremos por el PR-CV51\, por una pista ancha y algo pedregosa. A nuestra izquierda se alza la prominente cima del Mondúver\, coronada por sus antenas\, que también dejaremos atrás mientras continuamos ascendiendo hasta encontrar un desvío a la derecha señalizado como Senderos V2 y D3. \n \nTomaremos estos senderos y\, poco después\, aparecerá una pista que desciende a la derecha hacia la Font de l’Escudella; nosotros seguiremos por la izquierda\, por el Camí de les Foies\, dentro del PR-CV-D3\, en dirección a la Font del Cirer. Este tramo discurre por carretera\, por lo que se recomienda extremar la precaución durante aproximadamente un kilómetro y medio\, hasta llegar a la fuente\, donde realizaremos la comida. \nUna vez repuestas las fuerzas en este agradable paraje\, iniciaremos el descenso por la Senda de los Burros hasta las espectaculares Arcades\, hoy en desuso pero de gran importancia en los siglos XII y XIII. Finalmente\, regresaremos al punto de inicio\, cerrando así la ruta en el Monasterio. \nRUTA CIRCULAR\nDISTANCIA: 21\,9 Km\nALTITUD MÁXIMA: 490m\nDESNIVEL: +-590\nDIFICULTAD: MEDIA-ALTA\nDURACIÓN APROX. 8:45H\nSALIDA DE IBI: 6:30h. APARCAMIENTO GIRAVELLA\nPUNTO DE SALIDA MARCHA: MONASTERIO DE SANTA MARÍA. SIMAT DE LA VALLDIGNA \nPara participar en la actividad hay que estar Federado (Licencia 2026 en vigor) o tener un seguro de senderista\, el que no lo tenga deberá pinchar en el siguiente enlace: seguros.rocalbsub y solicitar el seguro correspondiente para ese día rellenando el formulario correspondiente y pagándolo al final\, bien por tarjeta o bizum\, como allí se indica. Asegurarse de acabar todo el proceso. En vuestro correo electrónico recibiréis el certificado de seguro y un carnet que os identifica como asegurados ese día. \nEsta ruta no os defraudará. ¡Os esperamos a todos\, amigos!
URL:https://amicsdelesmuntanyesibi.es/evento/ruta-circular-por-la-valldigna-pr-cv51-senderos-v2-y-d3-simat-terminos-municipales-de-benifairo-y-xeraco-simat-19-04-2026/
LOCATION:Aparcamiento de Giravella – Ibi\, Cid\, 4 03440 Ibi\, Ibi\, Alicante\, 03440\, España
CATEGORIES:Senderismo
ATTACH;FMTTYPE=image/jpeg:https://amicsdelesmuntanyesibi.es/wp-content/uploads/2026/04/5316915Master-e1775645324682.jpg
END:VEVENT
BEGIN:VEVENT
DTSTART;TZID=UTC:20260426T074500
DTEND;TZID=UTC:20260426T140000
DTSTAMP:20260426T012547
CREATED:20260419T161416Z
LAST-MODIFIED:20260420T041948Z
UID:25826-1777189500-1777212000@amicsdelesmuntanyesibi.es
SUMMARY:INTERCOMARCAL C.E. ONTINYENT   26/04/2026
DESCRIPTION:SERRA GROSSA – SENDES DE ROMAGUERA I ESTRET DE LES AIGÜES DES DE BELLÚS \nA partir de les 7:45 del matí\, control d’eixida davant del palau de Bellvís de Bellús  https://maps.app.goo.gl/Zi2uEomMFKpNnGWJ8\njunt a l’edifici de l’ajuntament de Bellús\, on se servirà timó i herbero per a tots/tes els/les participants (PORTEU-VOS EL GOT).\nSeguidament\, a les 8:30 h\, donarà inici la marxa eixint pel llavador de Bellús.\n(PER REDUÏR MOLÈSTIES AL VEÏNAT\, ES PREGA QUE DEIXEU ELS COTXES EN ELS CARRERS PERIFÈRICS AL NUCLI URBÀ.) \nLA RUTA: La ruta d’enguany discorre a l’entorn de l’Estret de les\nAigües\, congost sinuós per on el riu Albaida travessa la serra Grossa en\nel seu pas de la Vall d’Albaida a la Costera\, i una de les Meravelles de\nDiània que va captivar l’insigne etnobotànic Joan Pellicer. Des del poble\nde Bellús assolirem la serra Grossa per les sendes de Romaguera\,\nascendint a l’alt de la Penya Blanca\, amb vistes espectaculars de la\ncomarca. Per la frondosa senda Andalusa baixarem\, i durant l’últim tram\nrecorrerem el famós i bell paratge fluvial de l’Estret de les Aigües. \nDificultat: mitjana\nDistancia: 13\,5 Km Desnivell acumulat: 425 m.\nOBLIGATORI PASSAR PEL CONTROL D’EIXIDA \nFederats/des de la FEMECV 2026\, gratuït. Recordeu presentar la\nvostra llicència i DNI abans de l’eixida a les taules de control.\nNo federats/des\, 4€ per a l’assegurança expedida pel CEO. El\npagament és realitzarà el dia de la marxa a les taules de control.\nSENSE LLICÈNCIA FEDERATIVA O ASSEGURANÇA ESPECÍFICA\nEXPEDIDA A L’EFECTE PEL CEO\, NO ES POT PARTICIPAR. \nMarxa intercomarcal del CENTRE EXCURSIONISTA D’ONTINYENT\n26 D’ABRIL 2026\nCENTRE EXCURSIONISTA D’ONTINYENT\nhttps://www.facebook.com/ceontinyent.ontinyent?locale=ca_ES\nhttp://ceontinyent.blogspot.com.es/\nceontinyent@gmail.com tel. 606 515 619\,\nINTERCOMARCAL CENTRE EXCURSIONISTA\nD’ONTINYENT 26/04/2026\nLloc de trobada\nAJUNTAMENT DE BELLÚS\nhttps://maps.app.goo.gl/Zi2uEomMFKpNnGWJ\n8\nXàtiva – València\nAlbaida – Alacant\nCarretera nacional 340\nCol·labora\nAjuntament de Bellús \nEIXIDA DE IBI: 7:00 h des de el PARKING GIRAVELA \nINSCRIPCIÓ: \nhttp://bit.ly/3Q7rdni
URL:https://amicsdelesmuntanyesibi.es/evento/intercomarcal-c-e-ontinyent-26-04-2026/
LOCATION:Aparcamiento de Giravella – Ibi\, Cid\, 4 03440 Ibi\, Ibi\, Alicante\, 03440\, España
CATEGORIES:Senderismo
ATTACH;FMTTYPE=image/jpeg:https://amicsdelesmuntanyesibi.es/wp-content/uploads/2026/04/IMG_4677.jpeg
END:VEVENT
BEGIN:VEVENT
DTSTART;TZID=UTC:20260501T073000
DTEND;TZID=UTC:20260502T133000
DTSTAMP:20260426T012547
CREATED:20260412T112901Z
LAST-MODIFIED:20260415T151538Z
UID:25763-1777620600-1777728600@amicsdelesmuntanyesibi.es
SUMMARY:XIV VUELTA AL TÉRMINO DE IBI 01-02/05/2026 / XIV VOLTA AL TERME D'IBI 01-02/05/2026
DESCRIPTION:La XIV Volta al Terme d’Ibi llama a nuestras piernas para acometer esta actividad\, exigente pero a la vez encantadora por los parajes que encontramos a nuestro paso\, además de servirnos de convivencia durante 2 jornadas con los socios.\nEl recorrido tiene una distancia de 46 kilómetros repartidos en los dos días. La primera etapa empezará el dia 01 de mayo a las 7:30 h. desde el Parque Derramador (junto a Pastamanía)\, y concluirá en el refugio dels Esbarzerets donde pernoctaremos. El dia 02 de mayo saldremos a las 7:30 h. del refugio para completar el resto del recorrido finalizando en nuestra sede. \n\nLa dificultad que presenta esta actividad es alta con desniveles considerables\, por lo que es conveniente tener una buena condición física. No obstante\, existen numerosos puntos en los que se puede abandonar la prueba\, (siempre que alguien vaya a recoger al participante o este mismo se dirija por su propio pie hasta Ibi).\nPara el tramo del primer dia\, hay que llevar el almuerzo y la comida y llevar buena provisión de líquidos\, pues durante el trayecto hasta el refugio\, no hay posibilidad de reponer agua.\nEl plazo de inscripción para dormir en el refugio finaliza el día 28 de abril\, y los interesados en ello deberán hacerlo a través del siguiente formulario: PERNOCTA XIV VOLTA AL TERME pues las plazas para dormir son limitadas. La ropa de recambio\, sacos\, cena del primer dia y almuerzo del segundo\, así como agua para el desarrollo de esta jornada\, hay que llevarlo en mochilas a la sede el dia 30 de abril (jueves) a las 19:30 horas  para su traslado hasta el refugio. Independientemente de la inscripción para dormir en el refugio todos los participantes en la actividad deberán indicarlo aquí más abajo en «RESERVA» pinchando el botón «ASISTIRÉ«. \n \nPara participar en la actividad hay que estar Federado (Licencia 2026 en vigor) o tener un seguro de senderista\, el que no lo tenga deberá pinchar en el siguiente enlace: seguros.rocalbsub y solicitar el seguro correspondiente para ese día rellenando el formulario correspondiente y pagándolo al final\, bien por tarjeta o bizum\, como allí se indica. Asegurarse de acabar todo el proceso. En vuestro correo electrónico recibiréis el certificado de seguro y un carnet que os identifica como asegurados ese día.
URL:https://amicsdelesmuntanyesibi.es/evento/xiv-vuelta-al-termino-de-ibi-01-02-05-2026-xiv-volta-al-terme-dibi-01-02-05-2026/
LOCATION:Parque Derramador (junto a Pastamanía)\, Av. de Juan Carlos I\, 99\, Ibi\, Alicante\, 03440\, España
CATEGORIES:Senderismo
ATTACH;FMTTYPE=image/jpeg:https://amicsdelesmuntanyesibi.es/wp-content/uploads/2026/04/106150642.700x525.jpg
END:VEVENT
BEGIN:VEVENT
DTSTART;TZID=UTC:20260503T070000
DTEND;TZID=UTC:20260503T193000
DTSTAMP:20260426T012547
CREATED:20260411T154346Z
LAST-MODIFIED:20260415T143910Z
UID:25744-1777791600-1777836600@amicsdelesmuntanyesibi.es
SUMMARY:MARCHA LINEAL VALL D'EBO A MURLA - 3/05/2026 - TRASLADO EN BUS
DESCRIPTION:Para el primer domingo del mes que viene (3 de mayo) se propone una actividad espectacular por su exigencia y belleza\, se trata de una marcha lineal que se iniciará en la Vall d’Ebo y finalizará en la localidad de Murla\, donde nos recogerá el autobús que\, por la mañana\, nos dejó en la Vall. \n \nEsta ruta que coincide en casi en su totalidad con la etapa 15 del sendero de la Universidad de Alicante\, caminaremos un tramo por la sierra en el que disfrutaremos\, a nuestra izquierda\, de uno de los sectores más espectaculares del Barranc de l’Infern. Después iremos descendiendo hacia Benimaurell\, donde este tramo por la Sierra de Laguar\, del Penyó o Cavall Verd es de una belleza extraordinaria. Venid y la disfrutaremos todos juntos. \nSólo una pega: No hay fuentes en el recorrido\, pero nos encontraremos con un bar en el que podemos hacer un alto y refrescarnos. \n \nAlmuerzo y comida en ruta. \nDificultad: Media \nDistancia: +/- 18 Kms. \nDesnivel: +890 m./ -995 m. \nDuración: +/- 8 horas. \nSalida desde el Bar Parada de Ibi en Bus a las 7 de la mañana. \nRegreso desde Murla a las 18:00 horas aproximadamente. \nEl coste del autobús es de 12\,00€ los socios y de 15\,00€ los no socios. \nEl plazo para inscribirse a la actividad\, reservar y pagar la plaza para el autobús finaliza el viernes 24 de abril. \nComo hemos dicho\, no hay fuentes\, por lo que se aconseja llevar suficiente agua y calzado apropiado \n(mejor que la suela no sea excesivamente blanda). \nPara participar en la actividad hay que estar Federado (Licencia 2026 en vigor) o tener un seguro de senderista\, el que no lo tenga deberá pinchar en el siguiente enlace: seguros.rocalbsub y solicitar el seguro correspondiente para ese día rellenando el formulario correspondiente y pagándolo al final\, bien por tarjeta o bizum\, como allí se indica. Asegurarse de acabar todo el proceso. En vuestro correo electrónico recibiréis el certificado de seguro y un carnet que os identifica como asegurados ese día. \n  \n 
URL:https://amicsdelesmuntanyesibi.es/evento/marcha-lineal-vall-debo-a-murla-3-05-2026-traslado-en-bus/
LOCATION:Parada del Bus – Bar Parada\, Avda. Juan Carlos I\, 39\, Ibi\, Alicante\, 03440\, España
CATEGORIES:Senderismo
ATTACH;FMTTYPE=image/jpeg:https://amicsdelesmuntanyesibi.es/wp-content/uploads/2026/04/15-portada.jpg
END:VEVENT
END:VCALENDAR