BEGIN:VCALENDAR
VERSION:2.0
PRODID:-//Amics de les Muntanyes IBI - ECPv6.15.17.1//NONSGML v1.0//EN
CALSCALE:GREGORIAN
METHOD:PUBLISH
X-ORIGINAL-URL:https://amicsdelesmuntanyesibi.es
X-WR-CALDESC:Eventos para Amics de les Muntanyes IBI
REFRESH-INTERVAL;VALUE=DURATION:PT1H
X-Robots-Tag:noindex
X-PUBLISHED-TTL:PT1H
BEGIN:VTIMEZONE
TZID:Europe/Paris
BEGIN:DAYLIGHT
TZOFFSETFROM:+0100
TZOFFSETTO:+0200
TZNAME:CEST
DTSTART:20250330T010000
END:DAYLIGHT
BEGIN:STANDARD
TZOFFSETFROM:+0200
TZOFFSETTO:+0100
TZNAME:CET
DTSTART:20251026T010000
END:STANDARD
BEGIN:DAYLIGHT
TZOFFSETFROM:+0100
TZOFFSETTO:+0200
TZNAME:CEST
DTSTART:20260329T010000
END:DAYLIGHT
BEGIN:STANDARD
TZOFFSETFROM:+0200
TZOFFSETTO:+0100
TZNAME:CET
DTSTART:20261025T010000
END:STANDARD
BEGIN:DAYLIGHT
TZOFFSETFROM:+0100
TZOFFSETTO:+0200
TZNAME:CEST
DTSTART:20270328T010000
END:DAYLIGHT
BEGIN:STANDARD
TZOFFSETFROM:+0200
TZOFFSETTO:+0100
TZNAME:CET
DTSTART:20271031T010000
END:STANDARD
END:VTIMEZONE
BEGIN:VEVENT
DTSTART;TZID=Europe/Paris:20260201T070000
DTEND;TZID=Europe/Paris:20260201T133000
DTSTAMP:20260425T180753
CREATED:20260120T180421Z
LAST-MODIFIED:20260120T180421Z
UID:25461-1769929200-1769952600@amicsdelesmuntanyesibi.es
SUMMARY:CAPRALA   1/2/2026
DESCRIPTION:Nuestros amigos los Caminantes Blancos nos proponen esta ruta que discurre  por el bonito entorno de Petrer y también pasaremos por el término de Castalla.\nEmpezaremos la marcha desde el nacimiento de CAPRALA e iremos siguiendo el gr7.\nAl pasar por casas de Vilaplana nos desviaremos a la irquierda y mas adelante seguiremos una senda que nos llevara en constante ascenso\, pegada junto al Barranco de Peret\, llegando a las Casas de las Hermosas. Desde ahí\, tomaremos el camino que nos llevara a la cima que vamos buscando: Chocolate o Peña de los Colegiales.\nAl bajar\, buscaremos la senda que nos lleva a el Nacimiento de Caprala\, pero antes haremos una pequeña visita a la cueva.\n\n \n\n\n\n\nSALIDA :   7.00  en el parking de Giravela\nDISTANCIA:   16 km.\nDIFICULTAD:    Alta\nDESNIVEL:    705 m\nTIPO DE RUTA:   Circular\nDURACION:  5.30 Horas\n\n\nPara participar en la actividad hay que estar Federado (Licencia 2026 en vigor) o tener un seguro de senderista\, el que no lo tenga deberá pinchar en el siguiente enlace: seguros.rocalbsub y solicitar el seguro correspondiente para ese día rellenando el formulario correspondiente y pagándolo al final\, bien por tarjeta o bizum\, como allí se indica. Asegurarse de acabar todo el proceso. En vuestro correo electrónico recibiréis el certificado de seguro y un carnet que os identifica como asegurados ese día.
URL:https://amicsdelesmuntanyesibi.es/evento/caprala-1-2-2026-2/
LOCATION:Alicante
CATEGORIES:Senderismo
ATTACH;FMTTYPE=image/png:https://amicsdelesmuntanyesibi.es/wp-content/uploads/2026/01/IMG_1627.png
END:VEVENT
END:VCALENDAR